BEGIN:VCALENDAR
VERSION:2.0
PRODID:-//Restoran Dvosjed Jahorina - ECPv6.0.8//NONSGML v1.0//EN
CALSCALE:GREGORIAN
METHOD:PUBLISH
X-ORIGINAL-URL:https://dvosjedjahorina.com
X-WR-CALDESC:Događaji za Restoran Dvosjed Jahorina
REFRESH-INTERVAL;VALUE=DURATION:PT1H
X-Robots-Tag:noindex
X-PUBLISHED-TTL:PT1H
BEGIN:VTIMEZONE
TZID:UTC
BEGIN:STANDARD
TZOFFSETFROM:+0000
TZOFFSETTO:+0000
TZNAME:UTC
DTSTART:20220101T000000
END:STANDARD
END:VTIMEZONE
BEGIN:VEVENT
DTSTART;TZID=UTC:20221231T080000
DTEND;TZID=UTC:20230101T150000
DTSTAMP:20260422T235309
CREATED:20221031T131400Z
LAST-MODIFIED:20221222T183436Z
UID:6976-1672473600-1672585200@dvosjedjahorina.com
SUMMARY:Doček Nove 2023. godine i repriza
DESCRIPTION:
URL:https://dvosjedjahorina.com/event/dani-italijanske-kuhinje/
LOCATION:Jahorina\, Bosnia and Herzegovina
CATEGORIES:Događaji
ATTACH;FMTTYPE=image/png:https://dvosjedjahorina.com/wp-content/uploads/2022/10/Dvosjed-Jahorina_NG2023.png
ORGANIZER;CN="Restoran%20Dvosjed%20Jahorina":MAILTO:info@dvosjedjahorina.com
END:VEVENT
END:VCALENDAR