BEGIN:VCALENDAR
VERSION:2.0
PRODID:-//Restoran Dvosjed Jahorina - ECPv6.0.8//NONSGML v1.0//EN
CALSCALE:GREGORIAN
METHOD:PUBLISH
X-WR-CALNAME:Restoran Dvosjed Jahorina
X-ORIGINAL-URL:https://dvosjedjahorina.com
X-WR-CALDESC:Događaji za Restoran Dvosjed Jahorina
REFRESH-INTERVAL;VALUE=DURATION:PT1H
X-Robots-Tag:noindex
X-PUBLISHED-TTL:PT1H
BEGIN:VTIMEZONE
TZID:Europe/Paris
BEGIN:DAYLIGHT
TZOFFSETFROM:+0100
TZOFFSETTO:+0200
TZNAME:CEST
DTSTART:20240331T010000
END:DAYLIGHT
BEGIN:STANDARD
TZOFFSETFROM:+0200
TZOFFSETTO:+0100
TZNAME:CET
DTSTART:20241027T010000
END:STANDARD
END:VTIMEZONE
BEGIN:VEVENT
DTSTART;VALUE=DATE:20241212
DTEND;VALUE=DATE:20241216
DTSTAMP:20260419T154630
CREATED:20241101T132137Z
LAST-MODIFIED:20241122T132147Z
UID:8727-1733961600-1734307199@dvosjedjahorina.com
SUMMARY:Otvaranje zimske sezone 2024/25
DESCRIPTION:
URL:https://dvosjedjahorina.com/event/otvaranje-zimske-sezone-2024-25/
LOCATION:Jahorina\, Bosnia and Herzegovina
CATEGORIES:Događaji
ATTACH;FMTTYPE=image/jpeg:https://dvosjedjahorina.com/wp-content/uploads/2022/11/OCJahorina-1024x640-1.jpg
END:VEVENT
BEGIN:VEVENT
DTSTART;VALUE=DATE:20241231
DTEND;VALUE=DATE:20250101
DTSTAMP:20260419T154630
CREATED:20241120T100650Z
LAST-MODIFIED:20241121T083851Z
UID:8621-1735603200-1735689599@dvosjedjahorina.com
SUMMARY:Doček nove godine 2025 – Gliša i Ćeha
DESCRIPTION:
URL:https://dvosjedjahorina.com/event/docek-nove-godine-2025-glisa-i-ceha/
LOCATION:Jahorina\, Bosnia and Herzegovina
CATEGORIES:Događaji
ATTACH;FMTTYPE=image/jpeg:https://dvosjedjahorina.com/wp-content/uploads/2024/11/ng2025insrp1.jpg
ORGANIZER;CN="Restoran%20Dvosjed%20Jahorina":MAILTO:info@dvosjedjahorina.com
END:VEVENT
END:VCALENDAR